BEGIN:VCALENDAR
PRODID:-//github.com/rianjs/ical.net//NONSGML ical.net 4.0//EN
VERSION:2.0
BEGIN:VTIMEZONE
TZID:Central Standard Time
X-LIC-LOCATION:America/Chicago
BEGIN:STANDARD
DTSTART:20241103T020000
RRULE:FREQ=YEARLY;BYDAY=1SU;BYMONTH=11
TZNAME:CST
TZOFFSETFROM:-0500
TZOFFSETTO:-0600
END:STANDARD
BEGIN:DAYLIGHT
DTSTART:20250309T020000
RRULE:FREQ=YEARLY;BYDAY=2SU;BYMONTH=3
TZNAME:CDT
TZOFFSETFROM:-0600
TZOFFSETTO:-0500
END:DAYLIGHT
END:VTIMEZONE
BEGIN:VEVENT
DTEND;TZID=Central Standard Time;VALUE=DATE:20260605
DTSTAMP:20260422T005954Z
DTSTART;TZID=Central Standard Time;VALUE=DATE:20260601
LOCATION:Georgia World Congress Center 285 Andrew Young International Boul
 evard Northwest Atlanta\, GA 30303 United States
ORGANIZER;CN=;SENT-BY="mailto:":
SEQUENCE:0
SUMMARY:NWIR: NWIR Booth Skills USA - 2026 Volunteer Sign-Up
UID:79591c7f-6220-4eb9-9711-23c06c4dc9f8
END:VEVENT
END:VCALENDAR
