BEGIN:VCALENDAR
PRODID:-//github.com/rianjs/ical.net//NONSGML ical.net 4.0//EN
VERSION:2.0
BEGIN:VTIMEZONE
TZID:Eastern Standard Time
X-LIC-LOCATION:America/New_York
BEGIN:STANDARD
DTSTART:20241103T020000
RRULE:FREQ=YEARLY;BYDAY=1SU;BYMONTH=11
TZNAME:EST
TZOFFSETFROM:-0400
TZOFFSETTO:-0500
END:STANDARD
BEGIN:DAYLIGHT
DTSTART:20250309T020000
RRULE:FREQ=YEARLY;BYDAY=2SU;BYMONTH=3
TZNAME:EDT
TZOFFSETFROM:-0500
TZOFFSETTO:-0400
END:DAYLIGHT
END:VTIMEZONE
BEGIN:VEVENT
DESCRIPTION:Join us for a whimsical evening of celebration\, connection & 
 memories!
DTEND;TZID=Eastern Standard Time:20260521T213000
DTSTAMP:20260420T172319Z
DTSTART;TZID=Eastern Standard Time:20260521T183000
LOCATION:Zoe Venue 8865 Commodity Circle #8 Orlando\, FL 32819 United Stat
 es
ORGANIZER;CN=;SENT-BY="mailto:":
SEQUENCE:0
SUMMARY:NWIR: MAD HATTERS & MINT JULEPS\, A WHIMSICAL GARDEN AFFAIR Centra
 l Florida NWIR Adventures in Wonderland
UID:e5f51d2e-e1af-4126-90f1-5cd04a8113a8
END:VEVENT
END:VCALENDAR
